BEGIN:VCALENDAR
VERSION:2.0
PRODID:-//Seelerei - ECPv6.15.13//NONSGML v1.0//EN
CALSCALE:GREGORIAN
METHOD:PUBLISH
X-WR-CALNAME:Seelerei
X-ORIGINAL-URL:https://seelerei.info
X-WR-CALDESC:Veranstaltungen für Seelerei
REFRESH-INTERVAL;VALUE=DURATION:PT1H
X-Robots-Tag:noindex
X-PUBLISHED-TTL:PT1H
BEGIN:VTIMEZONE
TZID:Europe/Berlin
BEGIN:DAYLIGHT
TZOFFSETFROM:+0100
TZOFFSETTO:+0200
TZNAME:CEST
DTSTART:20240331T010000
END:DAYLIGHT
BEGIN:STANDARD
TZOFFSETFROM:+0200
TZOFFSETTO:+0100
TZNAME:CET
DTSTART:20241027T010000
END:STANDARD
BEGIN:DAYLIGHT
TZOFFSETFROM:+0100
TZOFFSETTO:+0200
TZNAME:CEST
DTSTART:20250330T010000
END:DAYLIGHT
BEGIN:STANDARD
TZOFFSETFROM:+0200
TZOFFSETTO:+0100
TZNAME:CET
DTSTART:20251026T010000
END:STANDARD
BEGIN:DAYLIGHT
TZOFFSETFROM:+0100
TZOFFSETTO:+0200
TZNAME:CEST
DTSTART:20260329T010000
END:DAYLIGHT
BEGIN:STANDARD
TZOFFSETFROM:+0200
TZOFFSETTO:+0100
TZNAME:CET
DTSTART:20261025T010000
END:STANDARD
END:VTIMEZONE
BEGIN:VEVENT
DTSTART;TZID=Europe/Berlin:20251204T190000
DTEND;TZID=Europe/Berlin:20251204T210000
DTSTAMP:20260422T182407
CREATED:20251112T164626Z
LAST-MODIFIED:20251119T145908Z
UID:157-1764874800-1764882000@seelerei.info
SUMMARY:Einführung in den Tarot
DESCRIPTION:Das Tarot besteht aus insgesamt 78 Karten\, die sich in die 22 großen Arkana und die 56 kleinen Arkana unterteilen. Die kleinen Arkana setzen sich aus 40 Zahlkarten und 16 Hofkarten zusammen. \nDie großen Arkana symbolisieren Subjektivität\, die Innenwelt und den Menschen. Es sind Bildkarten\, die tiefe Archetypen des menschlichen Bewusstseins darstellen. \nAn diesem Abend tauchen wir ein in die Geschichte und die Grundlagen des Rider Waite Tarot. \nAuf Spendenbasis – Empfehlung 15 – 30€
URL:https://seelerei.info/termin/einfuehrung-in-den-tarot/
LOCATION:Seelerei\, Alfred-Jung-Str. 8\, Berlin\, Berlin\, 10367\, Germany
CATEGORIES:Tarot,Workshop
ATTACH;FMTTYPE=image/jpeg:https://seelerei.info/wp-content/uploads/2025/11/01-der-magier.jpg
END:VEVENT
END:VCALENDAR