BEGIN:VCALENDAR
VERSION:2.0
PRODID:-//Seelerei - ECPv6.15.13//NONSGML v1.0//EN
CALSCALE:GREGORIAN
METHOD:PUBLISH
X-ORIGINAL-URL:https://seelerei.info
X-WR-CALDESC:Veranstaltungen für Seelerei
REFRESH-INTERVAL;VALUE=DURATION:PT1H
X-Robots-Tag:noindex
X-PUBLISHED-TTL:PT1H
BEGIN:VTIMEZONE
TZID:Europe/Berlin
BEGIN:DAYLIGHT
TZOFFSETFROM:+0100
TZOFFSETTO:+0200
TZNAME:CEST
DTSTART:20240331T010000
END:DAYLIGHT
BEGIN:STANDARD
TZOFFSETFROM:+0200
TZOFFSETTO:+0100
TZNAME:CET
DTSTART:20241027T010000
END:STANDARD
BEGIN:DAYLIGHT
TZOFFSETFROM:+0100
TZOFFSETTO:+0200
TZNAME:CEST
DTSTART:20250330T010000
END:DAYLIGHT
BEGIN:STANDARD
TZOFFSETFROM:+0200
TZOFFSETTO:+0100
TZNAME:CET
DTSTART:20251026T010000
END:STANDARD
BEGIN:DAYLIGHT
TZOFFSETFROM:+0100
TZOFFSETTO:+0200
TZNAME:CEST
DTSTART:20260329T010000
END:DAYLIGHT
BEGIN:STANDARD
TZOFFSETFROM:+0200
TZOFFSETTO:+0100
TZNAME:CET
DTSTART:20261025T010000
END:STANDARD
BEGIN:DAYLIGHT
TZOFFSETFROM:+0100
TZOFFSETTO:+0200
TZNAME:CEST
DTSTART:20270328T010000
END:DAYLIGHT
BEGIN:STANDARD
TZOFFSETFROM:+0200
TZOFFSETTO:+0100
TZNAME:CET
DTSTART:20271031T010000
END:STANDARD
END:VTIMEZONE
BEGIN:VEVENT
DTSTART;TZID=Europe/Berlin:20260411T100000
DTEND;TZID=Europe/Berlin:20260411T180000
DTSTAMP:20260420T140327
CREATED:20260128T110154Z
LAST-MODIFIED:20260219T175907Z
UID:356-1775901600-1775930400@seelerei.info
SUMMARY:Deine alten Glaubenssätze auflösen
DESCRIPTION:Löse dich von alten Mustern und öffne dich für neue Möglichkeiten.\nIn diesem Workshop begleitet dich Marco einfühlsam dabei\, energetische Blockaden und belastende Glaubenssätze zu erkennen und aufzulösen.\nMit der Meridian-Energie-Technik (MET) erlernst du eine wirkungsvolle Methode\, um Stress\, Ängste und innere Blockaden zu transformieren und mehr innere Freiheit zu gewinnen. \nDer Preis von €120\,- versteht sich inklusive Getränke\, Snacks und allen Arbeitsmaterialien. \nEin Glaubenssatz ist eine Überzeugung von der wir glauben\, dass sie wahr ist. Hast du nicht? Super\, dann gehörst du zu den glücklichen 1%\, die alle Glaubenssätze bearbeitet haben. 99% der Menschen tragen alte und nicht mehr nützliche Glaubenssätze mit sich herum\, die ihr aktuelles Leben beeinflussen. \nIn diesem Workshop werden wir belastende Glaubenssätze identifizieren und mit Hilfe der Meridian-Energie-Technik auflösen. Mit der Meridian-Energie-Technik (MET) erlernst du eine wirkungsvolle Methode\, um mehr innere Freiheit zu gewinnen. Und das beste ist – diese Technik ist als Selbsthilfetechnik grandios geeignet\, um damit zu Hause in deinem Tempo weiterzuarbeiten. \nWas dich erwartet:\n\nWir schauen genauer hin\, was Glaubenssätze sind und wie sie identifiziert werden können.\nWir erfahren\, wie alte Glaubenssätze dein Denken und Handeln prägen.\nWir lernen gemeinsam in der Gruppe\, wie du die belastenden Glaubenssätze durch MET auflösen kannst.\nWir machen weitere praktische Übungen mit MET\, damit du die Methode sicher im Alltag nutzen kannst.\nDu spürst\, was dich wirklich ausbremst\, und gewinnst neue Perspektiven für dein Leben.\n\nFür wen der Workshop ist:\n\nalle\, die hinderliche Glaubenssätze\, Stress und innere Blockaden loslassen möchten – sei es in Beziehungen\, im Beruf oder auf ihrem Weg zu mehr Selbstbewusstsein.\n\nLeitung\nMarco \nWann?\n11. April 2026\n10:00 – 18:00 Uhr
URL:https://seelerei.info/termin/met-glaubenssaetze-260221/
LOCATION:Seelerei\, Alfred-Jung-Str. 8\, Berlin\, Berlin\, 10367\, Germany
CATEGORIES:MET,Workshop
ATTACH;FMTTYPE=image/jpeg:https://seelerei.info/wp-content/uploads/2025/11/MET.jpg
END:VEVENT
BEGIN:VEVENT
DTSTART;TZID=Europe/Berlin:20260314T100000
DTEND;TZID=Europe/Berlin:20260315T170000
DTSTAMP:20260420T140327
CREATED:20260128T105101Z
LAST-MODIFIED:20260216T143840Z
UID:351-1773482400-1773594000@seelerei.info
SUMMARY:Die Geheimnisse des Tarot
DESCRIPTION:Tauche ein in die faszinierende Welt des Tarot und entdecke die tiefen Weisheiten\, die es in sich trägt. Dieser Wochenendkurs bietet dir eine einzigartige Gelegenheit\, das Tarot nicht nur als Kartenwerkzeug\, sondern als spirituellen Wegweiser zu erleben. \nDer Preis von €180\,- für das Workshopwochenende versteht sich inklusive Getränke\, Snacks und einem Tarotdeck. \nWas dich erwartet: \n\nGeschichte des Tarots: Erfahre mehr über die Ursprünge und die kulturelle Entwicklung des Tarots.\nDer Rider-Waite-Tarot: Gemeinsam erkunden wir die Symbolik und die kraftvollen Bilder eines der bekanntesten Tarotdecks.\nAlchemistische Denkweise: Wir verbinden die Karten mit der Philosophie der Alchemie und den Elementen.\nDie Reise des Narren: Folge dem Archetyp des Narren auf seiner Reise durch die 22 Großen Arkana und erfahre\, wie jede Karte eine Station des menschlichen Lebens darstellt.\nDer Baum des Lebens: Lerne die Verbindung der Kleinen Arkana mit der kabbalistischen Lehre kennen und wie die Karten als Spiegel des Lebensbaums dienen.\n\nFür wen ist der Kurs geeignet?\nDer Kurs richtet sich an alle\, die die Grundlagen des Tarots (neu) entdecken möchten. Er ist ebenso für Kenner des Tarot geeignet\, die eine tiefere Verbindung zu den Karten suchen und sich austauschen wollen.\nFalls du unsicher bist\, ob der Kurs für dich gut passt\, dann schreibe mir eine Nachricht. \nLeitung\nMarco \nWann?\nSamstag\, 14. März und Sonntag 15. März 2026\njeweils von 10:00 – 17:00 Uhr
URL:https://seelerei.info/termin/geheimnisse-des-tarot-260314/
LOCATION:Seelerei\, Alfred-Jung-Str. 8\, Berlin\, Berlin\, 10367\, Germany
CATEGORIES:Tarot,Workshop
ATTACH;FMTTYPE=image/jpeg:https://seelerei.info/wp-content/uploads/2026/01/tarot_workshop_example.jpeg
END:VEVENT
BEGIN:VEVENT
DTSTART;TZID=Europe/Berlin:20260129T190000
DTEND;TZID=Europe/Berlin:20260129T210000
DTSTAMP:20260420T140327
CREATED:20251222T092523Z
LAST-MODIFIED:20260116T144431Z
UID:335-1769713200-1769720400@seelerei.info
SUMMARY:Einführung in den Tarot
DESCRIPTION:Das Tarot besteht aus insgesamt 78 Karten\, die sich in die 22 großen Arkana und die 56 kleinen Arkana unterteilen. Die kleinen Arkana setzen sich aus 40 Zahlkarten und 16 Hofkarten zusammen. \nDie großen Arkana symbolisieren Subjektivität\, die Innenwelt und den Menschen. Es sind Bildkarten\, die tiefe Archetypen des menschlichen Bewusstseins darstellen. \nAn diesem Abend tauchen wir ein in die Geschichte und die Grundlagen des Rider Waite Tarot. \nAuf Spendenbasis – Empfehlung 15 – 30€
URL:https://seelerei.info/termin/einfuehrung-in-den-tarot-260129/
LOCATION:Seelerei\, Alfred-Jung-Str. 8\, Berlin\, Berlin\, 10367\, Germany
CATEGORIES:Tarot,Workshop
ATTACH;FMTTYPE=image/jpeg:https://seelerei.info/wp-content/uploads/2025/11/01-der-magier.jpg
END:VEVENT
BEGIN:VEVENT
DTSTART;TZID=Europe/Berlin:20260122T193000
DTEND;TZID=Europe/Berlin:20260122T210000
DTSTAMP:20260420T140327
CREATED:20251222T092941Z
LAST-MODIFIED:20260122T102929Z
UID:338-1769110200-1769115600@seelerei.info
SUMMARY:MET für Einsteiger
DESCRIPTION:Die Meridian-Energie-Technik (MET) ist ein ganzheitliches therapeutisches Verfahren aus der energetischen Psychologie\, das die traditionelle chinesische Medizin mit modernen psychotherapeutischen Ansätzen verbindet. Durch sanftes Beklopfen bestimmter Akupunkturpunkte können energetische Blockaden gelöst werden. \nMET ist besonders effektiv für Menschen\, die: \n\nPersönliche oder berufliche Blockaden schnell lösen möchten\nPrüfungsängste und Vorstellungsgesprächsstress überwinden wollen\nNegative Glaubenssätze wie „Das schaffe ich nicht“ transformieren möchten\nBei Entscheidungsfindung und Karrierewechsel Klarheit suchen\nBurnout-Symptome und chronischen Stress abbauen wollen\nSelbstbewusstsein und Führungskompetenzen stärken möchten\n\n„Der Grund für jedes negative Gefühl ist eine Unterbrechung im Energiesystem des Körpers.“\n(Dr. Callahan) \nDu lernst in diesem Workshop MET kennen und anwenden.
URL:https://seelerei.info/termin/met-fuer-einsteiger-260122/
LOCATION:Seelerei\, Alfred-Jung-Str. 8\, Berlin\, Berlin\, 10367\, Germany
CATEGORIES:MET,Workshop
ATTACH;FMTTYPE=image/jpeg:https://seelerei.info/wp-content/uploads/2025/11/MET.jpg
END:VEVENT
BEGIN:VEVENT
DTSTART;TZID=Europe/Berlin:20260115T190000
DTEND;TZID=Europe/Berlin:20260115T210000
DTSTAMP:20260420T140327
CREATED:20251222T092251Z
LAST-MODIFIED:20251222T092251Z
UID:332-1768503600-1768510800@seelerei.info
SUMMARY:Einführung in den Tarot
DESCRIPTION:Das Tarot besteht aus insgesamt 78 Karten\, die sich in die 22 großen Arkana und die 56 kleinen Arkana unterteilen. Die kleinen Arkana setzen sich aus 40 Zahlkarten und 16 Hofkarten zusammen. \nDie großen Arkana symbolisieren Subjektivität\, die Innenwelt und den Menschen. Es sind Bildkarten\, die tiefe Archetypen des menschlichen Bewusstseins darstellen. \nAn diesem Abend tauchen wir ein in die Geschichte und die Grundlagen des Rider Waite Tarot. \nAuf Spendenbasis – Empfehlung 15 – 30€
URL:https://seelerei.info/termin/einfuehrung-in-den-tarot-260115/
LOCATION:Seelerei\, Alfred-Jung-Str. 8\, Berlin\, Berlin\, 10367\, Germany
CATEGORIES:Tarot,Workshop
ATTACH;FMTTYPE=image/jpeg:https://seelerei.info/wp-content/uploads/2025/11/01-der-magier.jpg
END:VEVENT
BEGIN:VEVENT
DTSTART;TZID=Europe/Berlin:20251218T183000
DTEND;TZID=Europe/Berlin:20251218T213000
DTSTAMP:20260420T140327
CREATED:20251112T191407Z
LAST-MODIFIED:20251119T150652Z
UID:174-1766082600-1766093400@seelerei.info
SUMMARY:MET für Einsteiger
DESCRIPTION:Die Meridian-Energie-Technik (MET) ist ein ganzheitliches therapeutisches Verfahren aus der energetischen Psychologie\, das die traditionelle chinesische Medizin mit modernen psychotherapeutischen Ansätzen verbindet. Durch sanftes Beklopfen bestimmter Akupunkturpunkte können energetische Blockaden gelöst werden. \nDu lernst in diesem Workshop MET kennen und anwenden. \nMET ist besonders effektiv für Menschen\, die: \n\nPersönliche oder berufliche Blockaden schnell lösen möchten\nPrüfungsängste und Vorstellungsgesprächsstress überwinden wollen\nNegative Glaubenssätze wie „Das schaffe ich nicht“ transformieren möchten\nBei Entscheidungsfindung und Karrierewechsel Klarheit suchen\nBurnout-Symptome und chronischen Stress abbauen wollen\nSelbstbewusstsein und Führungskompetenzen stärken möchten\n\n„Der Grund für jedes negative Gefühl ist eine Unterbrechung im Energiesystem des Körpers.“\n(Dr. Callahan)
URL:https://seelerei.info/termin/met-fuer-einsteiger/
LOCATION:Seelerei\, Alfred-Jung-Str. 8\, Berlin\, Berlin\, 10367\, Germany
CATEGORIES:MET,Workshop
ATTACH;FMTTYPE=image/jpeg:https://seelerei.info/wp-content/uploads/2025/11/MET.jpg
END:VEVENT
BEGIN:VEVENT
DTSTART;TZID=Europe/Berlin:20251215T070000
DTEND;TZID=Europe/Berlin:20251215T073000
DTSTAMP:20260420T140327
CREATED:20251112T123359Z
LAST-MODIFIED:20251121T195358Z
UID:96-1765782000-1765783800@seelerei.info
SUMMARY:Morgenmeditation Bärentanz
DESCRIPTION:Der Bärentanz ist eine sanfte dynamische Meditation aus der Tradition der Native Americans. Er stärkt die Geschmeidigkeit des Körpers und stärkt unsere Verbindung mit der Natur und unserer Seele.
URL:https://seelerei.info/termin/baerentanz-5/
LOCATION:Seelerei\, Alfred-Jung-Str. 8\, Berlin\, Berlin\, 10367\, Germany
CATEGORIES:Bärentanz,Meditation
ATTACH;FMTTYPE=image/png:https://seelerei.info/wp-content/uploads/2025/11/meditators-02.png
END:VEVENT
BEGIN:VEVENT
DTSTART;TZID=Europe/Berlin:20251208T070000
DTEND;TZID=Europe/Berlin:20251208T073000
DTSTAMP:20260420T140327
CREATED:20251112T123303Z
LAST-MODIFIED:20251121T195412Z
UID:91-1765177200-1765179000@seelerei.info
SUMMARY:Morgenmeditation Bärentanz
DESCRIPTION:Der Bärentanz ist eine sanfte dynamische Meditation aus der Tradition der Native Americans. Er stärkt die Geschmeidigkeit des Körpers und stärkt unsere Verbindung mit der Natur und unserer Seele.
URL:https://seelerei.info/termin/baerentanz-4/
LOCATION:Berlin
CATEGORIES:Bärentanz,Meditation
ATTACH;FMTTYPE=image/png:https://seelerei.info/wp-content/uploads/2025/11/meditators-02.png
END:VEVENT
BEGIN:VEVENT
DTSTART;TZID=Europe/Berlin:20251204T190000
DTEND;TZID=Europe/Berlin:20251204T210000
DTSTAMP:20260420T140327
CREATED:20251112T164626Z
LAST-MODIFIED:20251119T145908Z
UID:157-1764874800-1764882000@seelerei.info
SUMMARY:Einführung in den Tarot
DESCRIPTION:Das Tarot besteht aus insgesamt 78 Karten\, die sich in die 22 großen Arkana und die 56 kleinen Arkana unterteilen. Die kleinen Arkana setzen sich aus 40 Zahlkarten und 16 Hofkarten zusammen. \nDie großen Arkana symbolisieren Subjektivität\, die Innenwelt und den Menschen. Es sind Bildkarten\, die tiefe Archetypen des menschlichen Bewusstseins darstellen. \nAn diesem Abend tauchen wir ein in die Geschichte und die Grundlagen des Rider Waite Tarot. \nAuf Spendenbasis – Empfehlung 15 – 30€
URL:https://seelerei.info/termin/einfuehrung-in-den-tarot/
LOCATION:Seelerei\, Alfred-Jung-Str. 8\, Berlin\, Berlin\, 10367\, Germany
CATEGORIES:Tarot,Workshop
ATTACH;FMTTYPE=image/jpeg:https://seelerei.info/wp-content/uploads/2025/11/01-der-magier.jpg
END:VEVENT
BEGIN:VEVENT
DTSTART;TZID=Europe/Berlin:20251201T070000
DTEND;TZID=Europe/Berlin:20251201T073000
DTSTAMP:20260420T140327
CREATED:20251112T123153Z
LAST-MODIFIED:20251121T195426Z
UID:90-1764572400-1764574200@seelerei.info
SUMMARY:Morgenmeditation Bärentanz
DESCRIPTION:Der Bärentanz ist eine sanfte dynamische Meditation aus der Tradition der Native Americans. Er stärkt die Geschmeidigkeit des Körpers und stärkt unsere Verbindung mit der Natur und unserer Seele.
URL:https://seelerei.info/termin/baerentanz-3/
LOCATION:Berlin
CATEGORIES:Bärentanz,Meditation
ATTACH;FMTTYPE=image/png:https://seelerei.info/wp-content/uploads/2025/11/meditators-02.png
END:VEVENT
BEGIN:VEVENT
DTSTART;TZID=Europe/Berlin:20251124T070000
DTEND;TZID=Europe/Berlin:20251124T073000
DTSTAMP:20260420T140327
CREATED:20251112T123129Z
LAST-MODIFIED:20251121T195438Z
UID:89-1763967600-1763969400@seelerei.info
SUMMARY:Morgenmeditation Bärentanz
DESCRIPTION:Der Bärentanz ist eine sanfte dynamische Meditation aus der Tradition der Native Americans. Er stärkt die Geschmeidigkeit des Körpers und stärkt unsere Verbindung mit der Natur und unserer Seele.
URL:https://seelerei.info/termin/baerentanz-2/
LOCATION:Berlin
CATEGORIES:Bärentanz,Meditation
ATTACH;FMTTYPE=image/png:https://seelerei.info/wp-content/uploads/2025/11/meditators-02.png
END:VEVENT
BEGIN:VEVENT
DTSTART;TZID=Europe/Berlin:20251118T063000
DTEND;TZID=Europe/Berlin:20251118T073000
DTSTAMP:20260420T140327
CREATED:20251112T104049Z
LAST-MODIFIED:20251121T195443Z
UID:68-1763447400-1763451000@seelerei.info
SUMMARY:Dynamische Meditation nach Osho
DESCRIPTION:Dynamische Meditation nach Osho ist eine aktive Meditationsform\, die in fünf Phasen unterteilt ist. Sie kombiniert Atmung\, Bewegung\, Lärm und Stille\, um emotionale Blockaden zu lösen und das Bewusstsein zu erweitern. Die Praxis fördert die Selbstentdeckung und innere Freiheit.
URL:https://seelerei.info/termin/dynamische-meditation-nach-osho/
LOCATION:Seelerei\, Alfred-Jung-Str. 8\, Berlin\, Berlin\, 10367\, Germany
CATEGORIES:dynamische Meditation,Meditation
ATTACH;FMTTYPE=image/png:https://seelerei.info/wp-content/uploads/2025/11/dancers-02.png
ORGANIZER;CN="Marco":MAILTO:kontakt@seelerei.info
END:VEVENT
BEGIN:VEVENT
DTSTART;TZID=Europe/Berlin:20251117T070000
DTEND;TZID=Europe/Berlin:20251117T073000
DTSTAMP:20260420T140327
CREATED:20251112T122913Z
LAST-MODIFIED:20251121T195449Z
UID:86-1763362800-1763364600@seelerei.info
SUMMARY:Morgenmeditation Bärentanz
DESCRIPTION:Der Bärentanz ist eine sanfte dynamische Meditation aus der Tradition der Native Americans. Er stärkt die Geschmeidigkeit des Körpers und stärkt unsere Verbindung mit der Natur und unserer Seele.
URL:https://seelerei.info/termin/baerentanz/
LOCATION:Berlin
CATEGORIES:Bärentanz,Meditation
ATTACH;FMTTYPE=image/png:https://seelerei.info/wp-content/uploads/2025/11/meditators-02.png
END:VEVENT
END:VCALENDAR